BEGIN:VCALENDAR
VERSION:2.0
PRODID:-//This Redeemed Life - ECPv6.15.20//NONSGML v1.0//EN
CALSCALE:GREGORIAN
METHOD:PUBLISH
X-WR-CALNAME:This Redeemed Life
X-ORIGINAL-URL:https://thisredeemedlife.org
X-WR-CALDESC:Events for This Redeemed Life
REFRESH-INTERVAL;VALUE=DURATION:PT1H
X-Robots-Tag:noindex
X-PUBLISHED-TTL:PT1H
BEGIN:VTIMEZONE
TZID:America/Los_Angeles
BEGIN:DAYLIGHT
TZOFFSETFROM:-0800
TZOFFSETTO:-0700
TZNAME:PDT
DTSTART:20250309T100000
END:DAYLIGHT
BEGIN:STANDARD
TZOFFSETFROM:-0700
TZOFFSETTO:-0800
TZNAME:PST
DTSTART:20251102T090000
END:STANDARD
BEGIN:DAYLIGHT
TZOFFSETFROM:-0800
TZOFFSETTO:-0700
TZNAME:PDT
DTSTART:20260308T100000
END:DAYLIGHT
BEGIN:STANDARD
TZOFFSETFROM:-0700
TZOFFSETTO:-0800
TZNAME:PST
DTSTART:20261101T090000
END:STANDARD
BEGIN:DAYLIGHT
TZOFFSETFROM:-0800
TZOFFSETTO:-0700
TZNAME:PDT
DTSTART:20270314T100000
END:DAYLIGHT
BEGIN:STANDARD
TZOFFSETFROM:-0700
TZOFFSETTO:-0800
TZNAME:PST
DTSTART:20271107T090000
END:STANDARD
END:VTIMEZONE
BEGIN:VEVENT
DTSTART;VALUE=DATE:20260423
DTEND;VALUE=DATE:20260424
DTSTAMP:20260421T022742
CREATED:20251111T171601Z
LAST-MODIFIED:20251111T171601Z
UID:9784-1776902400-1776988799@thisredeemedlife.org
SUMMARY:Flourish | College Station\, TX
DESCRIPTION:Marian will be the keynote speaker at Brazos Fellowship’s one-night women’s event.
URL:https://thisredeemedlife.org/event/flourish-college-station-tx/
LOCATION:Brazos Fellowship\, College Station\, TX
END:VEVENT
BEGIN:VEVENT
DTSTART;VALUE=DATE:20260425
DTEND;VALUE=DATE:20260426
DTSTAMP:20260421T022742
CREATED:20260202T154613Z
LAST-MODIFIED:20260202T154613Z
UID:10408-1777075200-1777161599@thisredeemedlife.org
SUMMARY:Women's One Night | Conway\, SC
DESCRIPTION:Marian will be partnering with Langston Baptist Church to share the gospel for their One Night women’s event.
URL:https://thisredeemedlife.org/event/womens-one-night-conway-sc/
LOCATION:Langston Baptist Church
END:VEVENT
BEGIN:VEVENT
DTSTART;VALUE=DATE:20260503
DTEND;VALUE=DATE:20260504
DTSTAMP:20260421T022742
CREATED:20260326T155202Z
LAST-MODIFIED:20260326T155202Z
UID:10571-1777766400-1777852799@thisredeemedlife.org
SUMMARY:First Women's Table Event | Wichita Falls\, TX
DESCRIPTION:Marian is excited to partner with First Baptist Church Wichita Falls for their annual spring event.
URL:https://thisredeemedlife.org/event/first-womens-table-event-wichita-falls-tx/
LOCATION:First Baptist Church Wichita Falls
END:VEVENT
BEGIN:VEVENT
DTSTART;VALUE=DATE:20260516
DTEND;VALUE=DATE:20260517
DTSTAMP:20260421T022742
CREATED:20260326T155713Z
LAST-MODIFIED:20260326T155713Z
UID:10574-1778889600-1778975999@thisredeemedlife.org
SUMMARY:First Christian Women's Fellowship | El Campo\, TX
DESCRIPTION:Marian is honored to partner with the women at First Christian Church for their Women’s Fellowship Event.
URL:https://thisredeemedlife.org/event/first-christian-womens-fellowship-el-campo-tx/
LOCATION:First Christian Church\, 205 W WEST ST\, El Campo\, TX
END:VEVENT
BEGIN:VEVENT
DTSTART;VALUE=DATE:20260804
DTEND;VALUE=DATE:20260805
DTSTAMP:20260421T022742
CREATED:20251229T183857Z
LAST-MODIFIED:20251229T183857Z
UID:10276-1785801600-1785887999@thisredeemedlife.org
SUMMARY:Deeper Women's Event | Littleton\, CO
DESCRIPTION:Marian will be joining the women of Mission Hills Church as the keynote speaker at their women’s fall event.
URL:https://thisredeemedlife.org/event/deeper-womens-event-littleton-co/
LOCATION:Mission Hills Church
END:VEVENT
BEGIN:VEVENT
DTSTART;VALUE=DATE:20260910
DTEND;VALUE=DATE:20260911
DTSTAMP:20260421T022742
CREATED:20251111T172155Z
LAST-MODIFIED:20251111T172155Z
UID:9787-1788998400-1789084799@thisredeemedlife.org
SUMMARY:Fall Flourish | Benton\, LA
DESCRIPTION:Marian will be joining the women at Cypress Baptist Church to speak at their Fall Flourish event.
URL:https://thisredeemedlife.org/event/fall-flourish-benton-la/
LOCATION:Cypress Baptist Church\, 4701 Palmetto Road\, Benton\, 71006\, United States
END:VEVENT
BEGIN:VEVENT
DTSTART;VALUE=DATE:20260928
DTEND;VALUE=DATE:20260929
DTSTAMP:20260421T022742
CREATED:20251111T172752Z
LAST-MODIFIED:20251111T172752Z
UID:9789-1790553600-1790639999@thisredeemedlife.org
SUMMARY:Simonton Community Church Ladies Dinner | Simonton\, TX
DESCRIPTION:Marian will be the keynote speaker at Simonton Community Church’s annual Ladies Dinner.
URL:https://thisredeemedlife.org/event/simonton-community-church-ladies-dinner-simonton-tx/
LOCATION:Simonton Community Church\, Simonton\, TX
END:VEVENT
BEGIN:VEVENT
DTSTART;VALUE=DATE:20261016
DTEND;VALUE=DATE:20261017
DTSTAMP:20260421T022742
CREATED:20251210T162530Z
LAST-MODIFIED:20251210T162530Z
UID:10230-1792108800-1792195199@thisredeemedlife.org
SUMMARY:Be Bold: Women's Conference | New Braunfels\, TX
DESCRIPTION:Marian will be joining the women of Freedom Fellowship Church as the speaker at their women’s conference.
URL:https://thisredeemedlife.org/event/be-bold-womens-conference-new-braunfels-tx/
LOCATION:Freedom Fellowship Church\, 410 Oak Run Point\, New Braunfels\, TX\, 78132
END:VEVENT
BEGIN:VEVENT
DTSTART;VALUE=DATE:20261207
DTEND;VALUE=DATE:20261209
DTSTAMP:20260421T022742
CREATED:20251210T163050Z
LAST-MODIFIED:20251210T163050Z
UID:10234-1796601600-1796774399@thisredeemedlife.org
SUMMARY:Ladies Christmas Dinner | Mansfield\, TX
DESCRIPTION:Marian will be the keynote speaker at Walnut Ridge Baptist Church’s annual Ladies Christmas Dinner.
URL:https://thisredeemedlife.org/event/ladies-christmas-dinner-mansfield-tx/
LOCATION:Walnut Ridge Baptist Church\, 1201 TX-360 S\, Mansfield\, TX\, 76063
END:VEVENT
END:VCALENDAR